BEGIN:VCALENDAR
VERSION:2.0
PRODID:-//hacksw/handcal//NONSGML v1.0//EN
BEGIN:VEVENT
UID:Finansiell infrastruktur 2026
DTSTAMP:20260421T065334Z
LOCATION:
ORGANIZER;CN=:MAILTO:
DTSTART:20260610T070000Z
DTEND:
SUMMARY:Finansiell infrastruktur 2026
DESCRIPTION;ENCODING=QUOTED-PRINTABLE:Publisering av rapporten Finansiell infrastruktur 2026.=0D=0A
END:VEVENT
END:VCALENDAR
