BEGIN:VCALENDAR
VERSION:2.0
PRODID:-//hacksw/handcal//NONSGML v1.0//EN
BEGIN:VEVENT
UID:Forventningsundersøkelse 2. kvartal 2026
DTSTAMP:20260421T063432Z
LOCATION:
ORGANIZER;CN=:MAILTO:
DTSTART:20260521T080000Z
DTEND:
SUMMARY:Forventningsundersøkelse 2. kvartal 2026
DESCRIPTION;ENCODING=QUOTED-PRINTABLE:=0D=0A
END:VEVENT
END:VCALENDAR
