BEGIN:VCALENDAR
VERSION:2.0
PRODID:-//hacksw/handcal//NONSGML v1.0//EN
BEGIN:VEVENT
UID:Rentebeslutning og Pengepolitisk rapport
DTSTAMP:20260424T001455Z
LOCATION:
ORGANIZER;CN=:MAILTO:
DTSTART:20261217T090000Z
DTEND:
SUMMARY:Rentebeslutning og Pengepolitisk rapport
DESCRIPTION;ENCODING=QUOTED-PRINTABLE:Offentliggjøring av rentebeslutning og Pengepolitisk rapport etter komiteens rentemøte 16. desember.=0D=0A
END:VEVENT
END:VCALENDAR
