BEGIN:VCALENDAR
VERSION:2.0
PRODID:-//hacksw/handcal//NONSGML v1.0//EN
BEGIN:VEVENT
UID:Rentebeslutning og Pengepolitisk rapport
DTSTAMP:20260424T001514Z
LOCATION:
ORGANIZER;CN=:MAILTO:
DTSTART:20260924T080000Z
DTEND:
SUMMARY:Rentebeslutning og Pengepolitisk rapport
DESCRIPTION;ENCODING=QUOTED-PRINTABLE:Offentliggjøring av rentebeslutning og Pengepolitisk rapport etter komiteens rentemøte 23. september.=0D=0A
END:VEVENT
END:VCALENDAR
